BEGIN:VCALENDAR
VERSION:2.0
PRODID:-//DP Pro Event Calendar//3.2.6//EN
BEGIN:VEVENT
UID:6675cf93-8be8-4ef2-ab18-3a3027cc7f63
DTSTART;TZID=America/New_York:20300612T193000
DTEND;TZID=America/New_York:20300612T204500
DTSTAMP:20200311T180647Z
SUMMARY:Wednesday Night Prayer Meeting
DESCRIPTION:You are invited to pray meeting every Wednesday night at 7:30 p.m. Come and experience uplifting fellowship\, spiritual music\, in-depth Bible study\, testimonies and vibrant prayer time!\r \n \r \n ( Matthew 18:20 For where two or three gather in my name\, there am I with them.)
LOCATION:5431 S. Rio Grande Ave\, orlando Florida 32839
URL:
ATTACH;FMTTYPE=image/jpeg:https://mybethelsda.org/wp-content/uploads/2020/03/announcementbulletingraphic32-1024x576.jpg
END:VEVENT
END:VCALENDAR