BEGIN:VCALENDAR
VERSION:2.0
PRODID:-//DP Pro Event Calendar//3.2.6//EN
BEGIN:VEVENT
UID:0e4b2c39-bbc1-4742-bf03-b764899591e6
DTSTART;TZID=America/New_York:20260221T090000
DTEND;TZID=America/New_York:20260221T124500
DTSTAMP:20200311T180336Z
SUMMARY:Sabbath Worship Experience
DESCRIPTION:We invite you to come worship and fellowship with us every sabbath (saturday) at 9:00 a.m with Sabbath School (Bible Study)\, and is available for children\, teenagers and adults. Following the Sabbath School\, our Worship Service begins at 10:45 a.m. and is filled with singing songs of praise\, listening to Biblical sermon teachings\, and rejoicing in His presence is the essence of our Worship Service.
LOCATION:5431 S. Rio Grande Ave\, orlando Florida 32839
URL:
ATTACH;FMTTYPE=image/jpeg:https://mybethelsda.org/wp-content/uploads/2020/03/IMG_2728-1024x768.jpg
END:VEVENT
END:VCALENDAR